Workbook

Sheet Panel
A1: Panel information
A4: Panel name | B4: LP-2A
A5: System voltage (L-L) | B5: 208 | C5: 120/208 V 3-phase 4-wire wye
A6: Phase-to-neutral voltage | B6: =ROUND(B5/SQRT(3),0)
A7: Main | B7: 225A MLO
A8: Bus rating (A) | B8: 225
A9: Fed from | B9: DP-1
A10: Location | B10: Electrical Rm 210
A11: Demand factor | B11: 1 | C11: Apply per NEC Article 220 or the engineer's load calc

Sheet Circuits
A1: Circuits (odd = left side, even = right side)
A2: Enter multi-pole loads on the first circuit; load splits evenly across the phases it occupies. Mark the following circuits as occupied.
A4: Ckt | B4: Description | C4: Load type | D4: Load (VA) | E4: Poles | F4: Breaker (A) | G4: Start phase | H4: Phase A (VA) | I4: Phase B (VA) | J4: Phase C (VA)
A5: 1 | B5: Lighting - Corridor 200 | C5: Lighting | D5: 1440 | E5: 1 | F5: 20 | G5: =CHOOSE(MOD(INT((A5-1)/2),3)+1,"A","B","C") | H5: =IF(OR(A5="",E5=""),0,IF(MOD(0-MOD(INT((A5-1)/2),3),3)<E5,D5/E5,0)) | I5: =IF(OR(A5="",E5=""),0,IF(MOD(1-MOD(INT((A5-1)/2),3),3)<E5,D5/E5,0)) | J5: =IF(OR(A5="",E5=""),0,IF(MOD(2-MOD(INT((A5-1)/2),3),3)<E5,D5/E5,0))
A6: 2 | B6: Receptacles - Office 201 | C6: Receptacle | D6: 1080 | E6: 1 | F6: 20 | G6: =CHOOSE(MOD(INT((A6-1)/2),3)+1,"A","B","C") | H6: =IF(OR(A6="",E6=""),0,IF(MOD(0-MOD(INT((A6-1)/2),3),3)<E6,D6/E6,0)) | I6: =IF(OR(A6="",E6=""),0,IF(MOD(1-MOD(INT((A6-1)/2),3),3)<E6,D6/E6,0)) | J6: =IF(OR(A6="",E6=""),0,IF(MOD(2-MOD(INT((A6-1)/2),3),3)<E6,D6/E6,0))
A7: 3 | B7: Lighting - Offices 201-205 | C7: Lighting | D7: 1650 | E7: 1 | F7: 20 | G7: =CHOOSE(MOD(INT((A7-1)/2),3)+1,"A","B","C") | H7: =IF(OR(A7="",E7=""),0,IF(MOD(0-MOD(INT((A7-1)/2),3),3)<E7,D7/E7,0)) | I7: =IF(OR(A7="",E7=""),0,IF(MOD(1-MOD(INT((A7-1)/2),3),3)<E7,D7/E7,0)) | J7: =IF(OR(A7="",E7=""),0,IF(MOD(2-MOD(INT((A7-1)/2),3),3)<E7,D7/E7,0))
A8: 4 | B8: Receptacles - Office 202 | C8: Receptacle | D8: 1080 | E8: 1 | F8: 20 | G8: =CHOOSE(MOD(INT((A8-1)/2),3)+1,"A","B","C") | H8: =IF(OR(A8="",E8=""),0,IF(MOD(0-MOD(INT((A8-1)/2),3),3)<E8,D8/E8,0)) | I8: =IF(OR(A8="",E8=""),0,IF(MOD(1-MOD(INT((A8-1)/2),3),3)<E8,D8/E8,0)) | J8: =IF(OR(A8="",E8=""),0,IF(MOD(2-MOD(INT((A8-1)/2),3),3)<E8,D8/E8,0))
A9: 5 | B9: RTU-2 (example) | C9: HVAC | D9: 9800 | E9: 3 | F9: 40 | G9: =CHOOSE(MOD(INT((A9-1)/2),3)+1,"A","B","C") | H9: =IF(OR(A9="",E9=""),0,IF(MOD(0-MOD(INT((A9-1)/2),3),3)<E9,D9/E9,0)) | I9: =IF(OR(A9="",E9=""),0,IF(MOD(1-MOD(INT((A9-1)/2),3),3)<E9,D9/E9,0)) | J9: =IF(OR(A9="",E9=""),0,IF(MOD(2-MOD(INT((A9-1)/2),3),3)<E9,D9/E9,0))
A10: 6 | B10: Copier | C10: Receptacle | D10: 1500 | E10: 1 | F10: 20 | G10: =CHOOSE(MOD(INT((A10-1)/2),3)+1,"A","B","C") | H10: =IF(OR(A10="",E10=""),0,IF(MOD(0-MOD(INT((A10-1)/2),3),3)<E10,D10/E10,0)) | I10: =IF(OR(A10="",E10=""),0,IF(MOD(1-MOD(INT((A10-1)/2),3),3)<E10,D10/E10,0)) | J10: =IF(OR(A10="",E10=""),0,IF(MOD(2-MOD(INT((A10-1)/2),3),3)<E10,D10/E10,0))
A11: 7 | B11: (occupied by multi-pole) | G11: =CHOOSE(MOD(INT((A11-1)/2),3)+1,"A","B","C") | H11: =IF(OR(A11="",E11=""),0,IF(MOD(0-MOD(INT((A11-1)/2),3),3)<E11,D11/E11,0)) | I11: =IF(OR(A11="",E11=""),0,IF(MOD(1-MOD(INT((A11-1)/2),3),3)<E11,D11/E11,0)) | J11: =IF(OR(A11="",E11=""),0,IF(MOD(2-MOD(INT((A11-1)/2),3),3)<E11,D11/E11,0))
A12: 8 | B12: Water heater EWH-1 (example) | C12: Other | D12: 4500 | E12: 2 | F12: 30 | G12: =CHOOSE(MOD(INT((A12-1)/2),3)+1,"A","B","C") | H12: =IF(OR(A12="",E12=""),0,IF(MOD(0-MOD(INT((A12-1)/2),3),3)<E12,D12/E12,0)) | I12: =IF(OR(A12="",E12=""),0,IF(MOD(1-MOD(INT((A12-1)/2),3),3)<E12,D12/E12,0)) | J12: =IF(OR(A12="",E12=""),0,IF(MOD(2-MOD(INT((A12-1)/2),3),3)<E12,D12/E12,0))
A13: 9 | B13: (occupied by multi-pole) | G13: =CHOOSE(MOD(INT((A13-1)/2),3)+1,"A","B","C") | H13: =IF(OR(A13="",E13=""),0,IF(MOD(0-MOD(INT((A13-1)/2),3),3)<E13,D13/E13,0)) | I13: =IF(OR(A13="",E13=""),0,IF(MOD(1-MOD(INT((A13-1)/2),3),3)<E13,D13/E13,0)) | J13: =IF(OR(A13="",E13=""),0,IF(MOD(2-MOD(INT((A13-1)/2),3),3)<E13,D13/E13,0))
A14: 10 | B14: (occupied by multi-pole) | G14: =CHOOSE(MOD(INT((A14-1)/2),3)+1,"A","B","C") | H14: =IF(OR(A14="",E14=""),0,IF(MOD(0-MOD(INT((A14-1)/2),3),3)<E14,D14/E14,0)) | I14: =IF(OR(A14="",E14=""),0,IF(MOD(1-MOD(INT((A14-1)/2),3),3)<E14,D14/E14,0)) | J14: =IF(OR(A14="",E14=""),0,IF(MOD(2-MOD(INT((A14-1)/2),3),3)<E14,D14/E14,0))
A15: 11 | B15: Spare | G15: =CHOOSE(MOD(INT((A15-1)/2),3)+1,"A","B","C") | H15: =IF(OR(A15="",E15=""),0,IF(MOD(0-MOD(INT((A15-1)/2),3),3)<E15,D15/E15,0)) | I15: =IF(OR(A15="",E15=""),0,IF(MOD(1-MOD(INT((A15-1)/2),3),3)<E15,D15/E15,0)) | J15: =IF(OR(A15="",E15=""),0,IF(MOD(2-MOD(INT((A15-1)/2),3),3)<E15,D15/E15,0))
A16: 12 | B16: Spare | G16: =CHOOSE(MOD(INT((A16-1)/2),3)+1,"A","B","C") | H16: =IF(OR(A16="",E16=""),0,IF(MOD(0-MOD(INT((A16-1)/2),3),3)<E16,D16/E16,0)) | I16: =IF(OR(A16="",E16=""),0,IF(MOD(1-MOD(INT((A16-1)/2),3),3)<E16,D16/E16,0)) | J16: =IF(OR(A16="",E16=""),0,IF(MOD(2-MOD(INT((A16-1)/2),3),3)<E16,D16/E16,0))
A17: 13 | B17: Spare | G17: =CHOOSE(MOD(INT((A17-1)/2),3)+1,"A","B","C") | H17: =IF(OR(A17="",E17=""),0,IF(MOD(0-MOD(INT((A17-1)/2),3),3)<E17,D17/E17,0)) | I17: =IF(OR(A17="",E17=""),0,IF(MOD(1-MOD(INT((A17-1)/2),3),3)<E17,D17/E17,0)) | J17: =IF(OR(A17="",E17=""),0,IF(MOD(2-MOD(INT((A17-1)/2),3),3)<E17,D17/E17,0))
A18: 14 | B18: Spare | G18: =CHOOSE(MOD(INT((A18-1)/2),3)+1,"A","B","C") | H18: =IF(OR(A18="",E18=""),0,IF(MOD(0-MOD(INT((A18-1)/2),3),3)<E18,D18/E18,0)) | I18: =IF(OR(A18="",E18=""),0,IF(MOD(1-MOD(INT((A18-1)/2),3),3)<E18,D18/E18,0)) | J18: =IF(OR(A18="",E18=""),0,IF(MOD(2-MOD(INT((A18-1)/2),3),3)<E18,D18/E18,0))
A19: 15 | B19: Spare | G19: =CHOOSE(MOD(INT((A19-1)/2),3)+1,"A","B","C") | H19: =IF(OR(A19="",E19=""),0,IF(MOD(0-MOD(INT((A19-1)/2),3),3)<E19,D19/E19,0)) | I19: =IF(OR(A19="",E19=""),0,IF(MOD(1-MOD(INT((A19-1)/2),3),3)<E19,D19/E19,0)) | J19: =IF(OR(A19="",E19=""),0,IF(MOD(2-MOD(INT((A19-1)/2),3),3)<E19,D19/E19,0))
A20: 16 | B20: Spare | G20: =CHOOSE(MOD(INT((A20-1)/2),3)+1,"A","B","C") | H20: =IF(OR(A20="",E20=""),0,IF(MOD(0-MOD(INT((A20-1)/2),3),3)<E20,D20/E20,0)) | I20: =IF(OR(A20="",E20=""),0,IF(MOD(1-MOD(INT((A20-1)/2),3),3)<E20,D20/E20,0)) | J20: =IF(OR(A20="",E20=""),0,IF(MOD(2-MOD(INT((A20-1)/2),3),3)<E20,D20/E20,0))
A21: 17 | B21: Spare | G21: =CHOOSE(MOD(INT((A21-1)/2),3)+1,"A","B","C") | H21: =IF(OR(A21="",E21=""),0,IF(MOD(0-MOD(INT((A21-1)/2),3),3)<E21,D21/E21,0)) | I21: =IF(OR(A21="",E21=""),0,IF(MOD(1-MOD(INT((A21-1)/2),3),3)<E21,D21/E21,0)) | J21: =IF(OR(A21="",E21=""),0,IF(MOD(2-MOD(INT((A21-1)/2),3),3)<E21,D21/E21,0))
A22: 18 | B22: Spare | G22: =CHOOSE(MOD(INT((A22-1)/2),3)+1,"A","B","C") | H22: =IF(OR(A22="",E22=""),0,IF(MOD(0-MOD(INT((A22-1)/2),3),3)<E22,D22/E22,0)) | I22: =IF(OR(A22="",E22=""),0,IF(MOD(1-MOD(INT((A22-1)/2),3),3)<E22,D22/E22,0)) | J22: =IF(OR(A22="",E22=""),0,IF(MOD(2-MOD(INT((A22-1)/2),3),3)<E22,D22/E22,0))
A23: 19 | B23: Spare | G23: =CHOOSE(MOD(INT((A23-1)/2),3)+1,"A","B","C") | H23: =IF(OR(A23="",E23=""),0,IF(MOD(0-MOD(INT((A23-1)/2),3),3)<E23,D23/E23,0)) | I23: =IF(OR(A23="",E23=""),0,IF(MOD(1-MOD(INT((A23-1)/2),3),3)<E23,D23/E23,0)) | J23: =IF(OR(A23="",E23=""),0,IF(MOD(2-MOD(INT((A23-1)/2),3),3)<E23,D23/E23,0))
A24: 20 | B24: Spare | G24: =CHOOSE(MOD(INT((A24-1)/2),3)+1,"A","B","C") | H24: =IF(OR(A24="",E24=""),0,IF(MOD(0-MOD(INT((A24-1)/2),3),3)<E24,D24/E24,0)) | I24: =IF(OR(A24="",E24=""),0,IF(MOD(1-MOD(INT((A24-1)/2),3),3)<E24,D24/E24,0)) | J24: =IF(OR(A24="",E24=""),0,IF(MOD(2-MOD(INT((A24-1)/2),3),3)<E24,D24/E24,0))
... A46: 42 | B46: Spare | G46: =CHOOSE(MOD(INT((A46-1)/2),3)+1,"A","B","C") | H46: =IF(OR(A46="",E46=""),0,IF(MOD(0-MOD(INT((A46-1)/2),3),3)<E46,D46/E46,0)) | I46: =IF(OR(A46="",E46=""),0,IF(MOD(1-MOD(INT((A46-1)/2),3),3)<E46,D46/E46,0)) | J46: =IF(OR(A46="",E46=""),0,IF(MOD(2-MOD(INT((A46-1)/2),3),3)<E46,D46/E46,0))
B47: CONNECTED LOAD | D47: =SUM(D5:D46) | H47: =SUM(H5:H46) | I47: =SUM(I5:I46) | J47: =SUM(J5:J46)

Sheet Summary
A1: Panel load summary
A4: Connected load (VA) | B4: =Circuits!D47
A5: Phase A (VA) | B5: =Circuits!H47
A6: Phase B (VA) | B6: =Circuits!I47
A7: Phase C (VA) | B7: =Circuits!J47
A8: Phase A amps | B8: =B5/Panel!$B$6
A9: Phase B amps | B9: =B6/Panel!$B$6
A10: Phase C amps | B10: =B7/Panel!$B$6
A11: Demand load (VA) | B11: =B4*Panel!B11
A12: Demand amps (3-phase) | B12: =B11/(SQRT(3)*Panel!B5)
A13: Max phase imbalance | B13: =(MAX(B5:B7)-MIN(B5:B7))/MAX(1,AVERAGE(B5:B7))
A14: Bus loading (highest phase) | B14: =MAX(B8:B10)/Panel!B8
