Workbook

Sheet Project
A1: Project and billing period
A4: Project | B4: [Project name]
A5: Contractor | B5: [Company]
A6: Application # | B6: 1
A7: Period to
A8: Retainage % | B8: 0.1 | C8: Per contract. Some contracts reduce retainage after 50% complete.

Sheet SOV
A1: Schedule of values (continuation sheet)
A2: Not an AIA document. Columns follow the common continuation-sheet layout; match your contract's required form.
A4: Item | B4: Description of work | C4: Scheduled value | D4: Previous applications | E4: This period | F4: Materials stored | G4: Completed & stored to date | H4: % complete | I4: Balance to finish | J4: Retainage
A5: 1 | B5: General conditions / mobilization | C5: 18000 | D5: 9000 | E5: 3000 | F5: 0 | G5: =D5+E5+F5 | H5: =IF(C5>0,G5/C5,0) | I5: =C5-G5 | J5: =G5*Project!$B$8
A6: 2 | B6: Demolition | C6: 12500 | D6: 12500 | E6: 0 | F6: 0 | G6: =D6+E6+F6 | H6: =IF(C6>0,G6/C6,0) | I6: =C6-G6 | J6: =G6*Project!$B$8
A7: 3 | B7: Framing and drywall | C7: 86000 | D7: 30000 | E7: 25000 | F7: 4000 | G7: =D7+E7+F7 | H7: =IF(C7>0,G7/C7,0) | I7: =C7-G7 | J7: =G7*Project!$B$8
A8: 4 | B8: Doors, frames, hardware | C8: 24000 | D8: 0 | E8: 6000 | F8: 8000 | G8: =D8+E8+F8 | H8: =IF(C8>0,G8/C8,0) | I8: =C8-G8 | J8: =G8*Project!$B$8
A9: 5 | B9: Painting | C9: 21000 | D9: 0 | E9: 4000 | F9: 0 | G9: =D9+E9+F9 | H9: =IF(C9>0,G9/C9,0) | I9: =C9-G9 | J9: =G9*Project!$B$8
A10: 6 | B10: Flooring | C10: 33500 | D10: 0 | E10: 0 | F10: 12000 | G10: =D10+E10+F10 | H10: =IF(C10>0,G10/C10,0) | I10: =C10-G10 | J10: =G10*Project!$B$8
A11: 7 | B11: Closeout and punch list | C11: 5000 | D11: 0 | E11: 0 | F11: 0 | G11: =D11+E11+F11 | H11: =IF(C11>0,G11/C11,0) | I11: =C11-G11 | J11: =G11*Project!$B$8
G12: =D12+E12+F12 | H12: =IF(C12>0,G12/C12,0) | I12: =C12-G12 | J12: =G12*Project!$B$8
G13: =D13+E13+F13 | H13: =IF(C13>0,G13/C13,0) | I13: =C13-G13 | J13: =G13*Project!$B$8
G14: =D14+E14+F14 | H14: =IF(C14>0,G14/C14,0) | I14: =C14-G14 | J14: =G14*Project!$B$8
G15: =D15+E15+F15 | H15: =IF(C15>0,G15/C15,0) | I15: =C15-G15 | J15: =G15*Project!$B$8
G16: =D16+E16+F16 | H16: =IF(C16>0,G16/C16,0) | I16: =C16-G16 | J16: =G16*Project!$B$8
G17: =D17+E17+F17 | H17: =IF(C17>0,G17/C17,0) | I17: =C17-G17 | J17: =G17*Project!$B$8
G18: =D18+E18+F18 | H18: =IF(C18>0,G18/C18,0) | I18: =C18-G18 | J18: =G18*Project!$B$8
G19: =D19+E19+F19 | H19: =IF(C19>0,G19/C19,0) | I19: =C19-G19 | J19: =G19*Project!$B$8
G20: =D20+E20+F20 | H20: =IF(C20>0,G20/C20,0) | I20: =C20-G20 | J20: =G20*Project!$B$8
G21: =D21+E21+F21 | H21: =IF(C21>0,G21/C21,0) | I21: =C21-G21 | J21: =G21*Project!$B$8
G22: =D22+E22+F22 | H22: =IF(C22>0,G22/C22,0) | I22: =C22-G22 | J22: =G22*Project!$B$8
G23: =D23+E23+F23 | H23: =IF(C23>0,G23/C23,0) | I23: =C23-G23 | J23: =G23*Project!$B$8
... G44: =D44+E44+F44 | H44: =IF(C44>0,G44/C44,0) | I44: =C44-G44 | J44: =G44*Project!$B$8
B45: TOTALS | C45: =SUM(C5:C44) | D45: =SUM(D5:D44) | E45: =SUM(E5:E44) | F45: =SUM(F5:F44) | G45: =SUM(G5:G44) | H45: =IF(C45>0,G45/C45,0) | I45: =SUM(I5:I44) | J45: =SUM(J5:J44)

Sheet Payment Summary
A1: Application for payment summary
A4: Original contract sum | B4: =SOV!C45
A5: Net change orders | B5: 0
A6: Contract sum to date | B6: =B4+B5
A7: Completed & stored to date | B7: =SOV!G45
A8: Retainage | B8: =SOV!J45
A9: Earned less retainage | B9: =B7-B8
A10: Less previous certificates | B10: 0
A11: CURRENT PAYMENT DUE | B11: =B9-B10
A12: Balance to finish incl. retainage | B12: =B6-B9
